BEGIN:VCALENDAR
VERSION:2.0
PRODID:-//City of Cullman, Alabama - ECPv6.15.20//NONSGML v1.0//EN
CALSCALE:GREGORIAN
METHOD:PUBLISH
X-ORIGINAL-URL:https://cullmanal.gov
X-WR-CALDESC:Events for City of Cullman, Alabama
REFRESH-INTERVAL;VALUE=DURATION:PT1H
X-Robots-Tag:noindex
X-PUBLISHED-TTL:PT1H
BEGIN:VTIMEZONE
TZID:America/New_York
BEGIN:DAYLIGHT
TZOFFSETFROM:-0500
TZOFFSETTO:-0400
TZNAME:EDT
DTSTART:20250309T070000
END:DAYLIGHT
BEGIN:STANDARD
TZOFFSETFROM:-0400
TZOFFSETTO:-0500
TZNAME:EST
DTSTART:20251102T060000
END:STANDARD
BEGIN:DAYLIGHT
TZOFFSETFROM:-0500
TZOFFSETTO:-0400
TZNAME:EDT
DTSTART:20260308T070000
END:DAYLIGHT
BEGIN:STANDARD
TZOFFSETFROM:-0400
TZOFFSETTO:-0500
TZNAME:EST
DTSTART:20261101T060000
END:STANDARD
BEGIN:DAYLIGHT
TZOFFSETFROM:-0500
TZOFFSETTO:-0400
TZNAME:EDT
DTSTART:20270314T070000
END:DAYLIGHT
BEGIN:STANDARD
TZOFFSETFROM:-0400
TZOFFSETTO:-0500
TZNAME:EST
DTSTART:20271107T060000
END:STANDARD
END:VTIMEZONE
BEGIN:VEVENT
DTSTART;VALUE=DATE:20260101
DTEND;VALUE=DATE:20270101
DTSTAMP:20260423T050017
CREATED:20260102T180347Z
LAST-MODIFIED:20260102T180347Z
UID:49043-1767225600-1798761599@cullmanal.gov
SUMMARY:County Parks & Recreation Events
DESCRIPTION:
URL:https://cullmanal.gov/event/county-parks-recreation-events/
LOCATION:Various Locations\, AL\, 35055\, United States
CATEGORIES:Community,County Parks,Events
ATTACH;FMTTYPE=image/jpeg:https://cullmanal.gov/wp-content/uploads/2019/07/countywide-spring-yard-sale.jpg
ORGANIZER;CN="Cullman County Parks & Recreation":MAILTO:ddavenport@co.cullmanal.us
END:VEVENT
END:VCALENDAR